BEGIN:VCALENDAR
VERSION:2.0
PRODID:-//PMK Kleve - ECPv4.7.1//NONSGML v1.0//EN
CALSCALE:GREGORIAN
METHOD:PUBLISH
X-WR-CALNAME:PMK Kleve
X-ORIGINAL-URL:https://pmk-kleve.de
X-WR-CALDESC:Veranstaltungen für PMK Kleve
BEGIN:VEVENT
DTSTART;VALUE=DATE:20221127
DTEND;VALUE=DATE:20221128
DTSTAMP:20260423T102152
CREATED:20221125T131655Z
LAST-MODIFIED:20221126T174650Z
UID:4709-1669507200-1669593599@pmk-kleve.de
SUMMARY:1. niedziela Adwentu
DESCRIPTION:Dzisiaj rozpoczyna się Adwent – czas radosnego oczekiwania na powtórne przyjście Pana Jezusa na ziemię i do naszych serc.  \nW liturgii adwentowej obowiązuje fioletowy kolor szat liturgicznych\, oznaczający czas pokuty i refleksji.  \nBarwa jest połączeniem błękitu i czerwieni. Symbolizuje dokonane przez Wcielenie Chrystusa\, zjednoczenie tego\, co Boskie i tego\, co ludzkie. \n
URL:https://pmk-kleve.de/event/1-niedziela-adwentu-2
CATEGORIES:Wydarzenia na strone główną
END:VEVENT
END:VCALENDAR