BEGIN:VCALENDAR
VERSION:2.0
PRODID:-//PMK Kleve - ECPv4.7.1//NONSGML v1.0//EN
CALSCALE:GREGORIAN
METHOD:PUBLISH
X-WR-CALNAME:PMK Kleve
X-ORIGINAL-URL:https://pmk-kleve.de
X-WR-CALDESC:Veranstaltungen für PMK Kleve
BEGIN:VEVENT
DTSTART;VALUE=DATE:20230313
DTEND;VALUE=DATE:20230314
DTSTAMP:20260423T003604
CREATED:20230310T120855Z
LAST-MODIFIED:20230313T210231Z
UID:5242-1678665600-1678751999@pmk-kleve.de
SUMMARY:10 lat pontyfikatu Ojca Świętego Franciszka
DESCRIPTION:Ojciec Święty jest następcą św. Piotra i głową Kościoła świętego. \nModlitwa za papieża \nPanie Jezu Chryste\, Dobry Pasterzu. \nDziękujemy Ci za dar Twego Sługi papieża Franciszka.  \nProsimy\, abyś dał mu łaskę umacniania słabych\, odnajdywania zagubionych i pocieszania chorych. \nW mocy Twojego Ducha spraw\, aby prowadził Kościół tam\, gdzie chcesz i jak chcesz. Który żyjesz i królujesz na wieki wieków. Amen \nW tym roku mija 10 lat od rozpoczęcia pontyfikatu Ojca Świętego Franciszka.  \n
URL:https://pmk-kleve.de/event/10-lat-pontyfikatu-ojca-swietego-franciszka
CATEGORIES:Wydarzenia na strone główną
END:VEVENT
END:VCALENDAR