BEGIN:VCALENDAR
VERSION:2.0
PRODID:-//PMK Kleve - ECPv4.7.1//NONSGML v1.0//EN
CALSCALE:GREGORIAN
METHOD:PUBLISH
X-WR-CALNAME:PMK Kleve
X-ORIGINAL-URL:https://pmk-kleve.de
X-WR-CALDESC:Veranstaltungen für PMK Kleve
BEGIN:VEVENT
DTSTART;VALUE=DATE:20221214
DTEND;VALUE=DATE:20221215
DTSTAMP:20260423T071306
CREATED:20221213T212134Z
LAST-MODIFIED:20221214T093016Z
UID:4893-1670976000-1671062399@pmk-kleve.de
SUMMARY:18. dzień Adwentu
DESCRIPTION:„My Polacy\, słyniemy z żywej wiary. Któż wątpi w wiarę narodu polskiego? Nikt!  \nAle jednego nam nieco brak: abyśmy równie po chrześcijańsku żyli\, jak po chrześcijańsku wierzymy\, aby między naszą silną wiarą a życiem NIE BYŁO rozbieżności“ \nbł. kard. Stefan Wyszyński \n
URL:https://pmk-kleve.de/event/18-dzien-adwentu
END:VEVENT
END:VCALENDAR