BEGIN:VCALENDAR
VERSION:2.0
PRODID:-//PMK Kleve - ECPv4.7.1//NONSGML v1.0//EN
CALSCALE:GREGORIAN
METHOD:PUBLISH
X-WR-CALNAME:PMK Kleve
X-ORIGINAL-URL:https://pmk-kleve.de
X-WR-CALDESC:Veranstaltungen für PMK Kleve
BEGIN:VEVENT
DTSTART;VALUE=DATE:20230402
DTEND;VALUE=DATE:20230403
DTSTAMP:20260423T033350
CREATED:20230324T151910Z
LAST-MODIFIED:20230324T151910Z
UID:5330-1680393600-1680479999@pmk-kleve.de
SUMMARY:18. rocznica śmierci św. Jana Pawła II
DESCRIPTION:Być człowiekiem sumienia \n„To znaczy\, że staram się być człowiekiem sumienia. Że tego sumienia nie zagłuszam i nie zniekształcam. Nazywam po imieniu dobro i zło\, a nie zamazuję. Wypracowuję w sobie dobro\, ze zła staram się poprawiać\, przezwyciężając je w sobie. To taka bardzo podstawowa sprawa\, której nigdy nie można pomniejszać\, zepchnąć na dalszy plan. Nie. Nie! Ona jest wszędzie i zawsze pierwszoplanowa. Jest zaś tym ważniejsza\, im więcej okoliczności zdaje się sprzyjać temu\, abyśmy tolerowali zło\, abyśmy się łatwo z niego rozgrzeszali. Zwłaszcza\, jeżeli tak postępują inni. \nMoi drodzy przyjaciele! Do was\, do was należy położyć zdecydowaną zaporę demoralizacji – zaporę tym wadom społecznym\, których ja tu nie będę nazywał po imieniu\, ale o których wy sami doskonale wiecie. Musicie od siebie wymagać\, nawet gdyby inni od was nie wymagali. Doświadczenia historyczne mówią nam o tym\, ile kosztowała cały naród okresowa demoralizacja. Dzisiaj\, kiedy zmagamy się o przyszły kształt naszego życia społecznego\, pamiętajcie\, że ten kształt zależy od tego\, jaki będzie człowiek. A więc: czuwajcie! \nChrystus powiedział podczas modlitwy w Ogrójcu apostołom: „Czuwajcie i módlcie się\, abyście nie ulegli pokusie“ \nśw. Jan Paweł II\, papież “ Rozważania wygłoszone podczas Apelu Jasnogórskiego w Częstochowie 18.06.1983 r \n
URL:https://pmk-kleve.de/event/18-rocznica-smierci-sw-jana-pawla-ii
CATEGORIES:Wydarzenia na strone główną
END:VEVENT
END:VCALENDAR