BEGIN:VCALENDAR
VERSION:2.0
PRODID:-//PMK Kleve - ECPv4.7.1//NONSGML v1.0//EN
CALSCALE:GREGORIAN
METHOD:PUBLISH
X-WR-CALNAME:PMK Kleve
X-ORIGINAL-URL:https://pmk-kleve.de
X-WR-CALDESC:Veranstaltungen für PMK Kleve
BEGIN:VEVENT
DTSTART;VALUE=DATE:20221216
DTEND;VALUE=DATE:20221217
DTSTAMP:20260423T070209
CREATED:20221214T093138Z
LAST-MODIFIED:20221214T093138Z
UID:4902-1671148800-1671235199@pmk-kleve.de
SUMMARY:20. dzień Adwentu
DESCRIPTION:„Nie można kochać Boga\, nie kochając człowieka i nie można kochać człowieka\, nie kochając Boga“ \nks. Jan Twardowski \n
URL:https://pmk-kleve.de/event/20-dzien-adwentu
END:VEVENT
END:VCALENDAR