BEGIN:VCALENDAR
VERSION:2.0
PRODID:-//PMK Kleve - ECPv4.7.1//NONSGML v1.0//EN
CALSCALE:GREGORIAN
METHOD:PUBLISH
X-WR-CALNAME:PMK Kleve
X-ORIGINAL-URL:https://pmk-kleve.de
X-WR-CALDESC:Veranstaltungen für PMK Kleve
BEGIN:VEVENT
DTSTART;VALUE=DATE:20221218
DTEND;VALUE=DATE:20221219
DTSTAMP:20260423T071210
CREATED:20221215T100515Z
LAST-MODIFIED:20221215T100516Z
UID:4909-1671321600-1671407999@pmk-kleve.de
SUMMARY:22. dzień Adwentu
DESCRIPTION:„Czuwajcie i módlcie się\, abyście nie ulegli pokusie“  \nCzuwam – to znaczy dostrzegam drugiego. Nie zamykam sie w sobie\, w ciasnym podwórku własnych interesów czy nawet własnych osądów oraz miłuję bliźniego. \nStaram sie być człowiekiem sumienia. Własnego sumienia nie zagłuszam i nie zniekształcam. Nazywam po imieniu dobro i zło. Wypracowuję w sobie dobro\, a ze zła staram się poprawiać\, przezwyciężając je w sobie. Nie tolerujmy zła. \nŹródło: P. Słabek „Św. Jan Paweł II. Rekolekcje“ \n
URL:https://pmk-kleve.de/event/22-dzien-adwentu
END:VEVENT
END:VCALENDAR