BEGIN:VCALENDAR
VERSION:2.0
PRODID:-//PMK Kleve - ECPv4.7.1//NONSGML v1.0//EN
CALSCALE:GREGORIAN
METHOD:PUBLISH
X-WR-CALNAME:PMK Kleve
X-ORIGINAL-URL:https://pmk-kleve.de
X-WR-CALDESC:Veranstaltungen für PMK Kleve
BEGIN:VEVENT
DTSTART;VALUE=DATE:20221220
DTEND;VALUE=DATE:20221221
DTSTAMP:20260423T040616
CREATED:20230108T175640Z
LAST-MODIFIED:20230108T175640Z
UID:5036-1671494400-1671580799@pmk-kleve.de
SUMMARY:24. dzień Adwentu
DESCRIPTION:„Przeto\, Bracia\, moi najmilsi\, bądźcie wytrwali i niezachwiani\, zajęci zawsze ofiarnie dziełem Pańskim\, pamiętając\, że trud wasz nie pozostaje daremny w Panu.“ \n1 List do Koryntian 15\,58 \n
URL:https://pmk-kleve.de/event/24-dzien-adwentu
CATEGORIES:Wydarzenia na strone główną
END:VEVENT
END:VCALENDAR