BEGIN:VCALENDAR
VERSION:2.0
PRODID:-//PMK Kleve - ECPv4.7.1//NONSGML v1.0//EN
CALSCALE:GREGORIAN
METHOD:PUBLISH
X-WR-CALNAME:PMK Kleve
X-ORIGINAL-URL:https://pmk-kleve.de
X-WR-CALDESC:Veranstaltungen für PMK Kleve
BEGIN:VEVENT
DTSTART;VALUE=DATE:20221221
DTEND;VALUE=DATE:20221222
DTSTAMP:20260423T040701
CREATED:20230108T175302Z
LAST-MODIFIED:20230108T175302Z
UID:5034-1671580800-1671667199@pmk-kleve.de
SUMMARY:25. dzień Adwentu
DESCRIPTION:„Serce radosne\, twarz rozwesela.“ \nKsięga przysłów 15\,13 \n
URL:https://pmk-kleve.de/event/25-dzien-adwentu
CATEGORIES:Wydarzenia na strone główną
END:VEVENT
END:VCALENDAR