BEGIN:VCALENDAR
VERSION:2.0
PRODID:-//PMK Kleve - ECPv4.7.1//NONSGML v1.0//EN
CALSCALE:GREGORIAN
METHOD:PUBLISH
X-WR-CALNAME:PMK Kleve
X-ORIGINAL-URL:https://pmk-kleve.de
X-WR-CALDESC:Veranstaltungen für PMK Kleve
BEGIN:VEVENT
DTSTART;VALUE=DATE:20221222
DTEND;VALUE=DATE:20221223
DTSTAMP:20260423T053013
CREATED:20221214T093654Z
LAST-MODIFIED:20221215T102033Z
UID:4904-1671667200-1671753599@pmk-kleve.de
SUMMARY:26. dzień Adwentu
DESCRIPTION:„Przyjdźcie\, zobaczcie dzieła Pana\, \ndzieła zdumiewające\, które dokonuje na ziemi\, \nOn uśmierza wojny aż po krańce ziemi\, \nOn kruszy łuki\, łamie włócznie\, \ntarcze pali w ogniu. \n<Zatrzymajcie się i wiedzcie\, że Ja jestem Bogiem\, \njestem ponad narodami\, jestem ponad ziemią!> \nPan Zastępów jest z nami\, \nBóg Jakuba jest dla nas obroną“ \nKsięga Psalmów 46\, 9-12 \n
URL:https://pmk-kleve.de/event/26-dzien-adwentu
END:VEVENT
END:VCALENDAR