BEGIN:VCALENDAR
VERSION:2.0
PRODID:-//PMK Kleve - ECPv4.7.1//NONSGML v1.0//EN
CALSCALE:GREGORIAN
METHOD:PUBLISH
X-WR-CALNAME:PMK Kleve
X-ORIGINAL-URL:https://pmk-kleve.de
X-WR-CALDESC:Veranstaltungen für PMK Kleve
BEGIN:VEVENT
DTSTART;VALUE=DATE:20221129
DTEND;VALUE=DATE:20221130
DTSTAMP:20260423T133528
CREATED:20221124T215721Z
LAST-MODIFIED:20221126T174305Z
UID:4683-1669680000-1669766399@pmk-kleve.de
SUMMARY:3. dzień Adwentu
DESCRIPTION:Adwentowy Wieniec \nWieniec adwentowy jest formą hołdu Ludu Bożego dla oczekiwanego w miłości i radości Chrystusa\, symbolem zwycięstwa i godności królewskiej.  \nWykonany jest z zielonych gałązek\, na których umieszczone są cztery świece symbolizujące cztery niedziele adwentowe. Zapala się je w kolejne niedziele Adwentu. Światło świec w wieńcu niesie przesłanie\, by nigdy nie zabrakło nam nadziei. Zieleń jest symbolem trwającego życia. Kształt kręgu symbolizuje wieczność Boga\, który nie ma początku ani końca\, oraz wieczność życia Chrystusa. \nPierwsza świeca to symbol przebaczenia – bez którego nie jest możliwy pokój.  \nDruga świeca jest symbolem wiary – że tylko w ramionach Boga możemy czuć się bezpiecznie.  \nTrzecia świeca to symbol radości przymierza z Bogiem i drugim człowiekiem.  \nCzwarta świeca symbolizuje nadzieję oczekiwania.  \nW Wigilię Bożego Narodzenia wszystkie palące się świece symbolizują bliskość „przyjścia” Jezusa. \nŹródło: https://bernardynki.diecezja.tarnow.pl/  \n
URL:https://pmk-kleve.de/event/3-dzien-adwentu
CATEGORIES:Wydarzenia na strone główną
END:VEVENT
END:VCALENDAR