BEGIN:VCALENDAR
VERSION:2.0
PRODID:-//PMK Kleve - ECPv4.7.1//NONSGML v1.0//EN
CALSCALE:GREGORIAN
METHOD:PUBLISH
X-WR-CALNAME:PMK Kleve
X-ORIGINAL-URL:https://pmk-kleve.de
X-WR-CALDESC:Veranstaltungen für PMK Kleve
BEGIN:VEVENT
DTSTART;VALUE=DATE:20221211
DTEND;VALUE=DATE:20221212
DTSTAMP:20260423T111527
CREATED:20221125T133027Z
LAST-MODIFIED:20221126T180934Z
UID:4720-1670716800-1670803199@pmk-kleve.de
SUMMARY:3. niedziela Adwentu
DESCRIPTION:Dzisiaj jest tzw. Niedziela „Gaudete” (radujcie się) wyjątkowo obowiązuje różowy kolor szat\, wyrażający przewagę światła i bliskość Bożego Narodzenia. \n„Przybądź o Panie\, aby nas wybawić“ Ps 146 \n  \n
URL:https://pmk-kleve.de/event/3-niedziela-adwentu
CATEGORIES:Wydarzenia na strone główną
END:VEVENT
END:VCALENDAR