BEGIN:VCALENDAR
VERSION:2.0
PRODID:-//PMK Kleve - ECPv4.7.1//NONSGML v1.0//EN
CALSCALE:GREGORIAN
METHOD:PUBLISH
X-WR-CALNAME:PMK Kleve
X-ORIGINAL-URL:https://pmk-kleve.de
X-WR-CALDESC:Veranstaltungen für PMK Kleve
BEGIN:VEVENT
DTSTART;VALUE=DATE:20250302
DTEND;VALUE=DATE:20250309
DTSTAMP:20260423T020414
CREATED:20250228T133138Z
LAST-MODIFIED:20250228T133138Z
UID:7240-1740873600-1741478399@pmk-kleve.de
SUMMARY:58. Tydzień Modlitw o Trzeźwość Narodu
DESCRIPTION: \nIntencje 58. Tygodnia Modlitw o Trzeźwość Narodu\nOdpowiedzialni za trzeźwość \n Niedziela\, 2 marca 2025 r. – Modlitwa za Polaków\, aby troszczyli się o trzeźwość osobistą\, rodzinną i narodową. \nPoniedziałek\, 3 marca 2025 r. – Modlitwa za przygotowujących się do małżeństwa\, aby w trosce o przyszłe szczęśliwe życie małżeńskie praktykowali cnotę trzeźwości. \nWtorek\, 4 marca 2025 r. – Modlitwa za polskie elity\, aby wywierały pozytywny wpływ na kształtowanie postaw trzeźwościowych w społeczeństwie.\nŚroda Popielcowa\, 5 marca 2025 r. – Modlitwa za chrześcijan\, aby w duchu pokuty i ofiary podjęli decyzję o dobrowolnej abstynencji w Wielkim Poście.\nCzwartek\, 6 marca 2025 r. – Modlitwa za osoby duchowne\, aby osobistym przykładem trzeźwego życia wspierali trzeźwość wszystkich Polaków.\nPiątek\, 7 marca 2025 r. – Modlitwa za członków rodzin z problemami alkoholowymi\, aby odzyskali zdrowie i znaleźli pomoc w życiowych trudnościach. \nSobota\, 8 marca 2025 r. – Modlitwa za kobiety\, aby tworzyły nową kulturę trzeźwości w naszym narodzie. \n
URL:https://pmk-kleve.de/event/58-tydzien-modlitw-o-trzezwosc-narodu
CATEGORIES:Wydarzenia na strone główną
END:VEVENT
END:VCALENDAR