BEGIN:VCALENDAR
VERSION:2.0
PRODID:-//PMK Kleve - ECPv4.7.1//NONSGML v1.0//EN
CALSCALE:GREGORIAN
METHOD:PUBLISH
X-WR-CALNAME:PMK Kleve
X-ORIGINAL-URL:https://pmk-kleve.de
X-WR-CALDESC:Veranstaltungen für PMK Kleve
BEGIN:VEVENT
DTSTART;VALUE=DATE:20190518
DTEND;VALUE=DATE:20190519
DTSTAMP:20260425T163056
CREATED:20190408T131618Z
LAST-MODIFIED:20190414T194107Z
UID:625-1558137600-1558223999@pmk-kleve.de
SUMMARY:urodziny Jana Pawła II
DESCRIPTION:Jan Paweł II  – Karol Józef Wojtyła urodził się 18 maja 1920 w Wadowicach \n
URL:https://pmk-kleve.de/event/625
ATTACH;FMTTYPE=image/jpeg:https://pmk-kleve.de/wp-content/uploads/2019/04/baner-wydarzenia-03.jpg
END:VEVENT
END:VCALENDAR