BEGIN:VCALENDAR
VERSION:2.0
PRODID:-//PMK Kleve - ECPv4.7.1//NONSGML v1.0//EN
CALSCALE:GREGORIAN
METHOD:PUBLISH
X-WR-CALNAME:PMK Kleve
X-ORIGINAL-URL:https://pmk-kleve.de
X-WR-CALDESC:Veranstaltungen für PMK Kleve
BEGIN:VEVENT
DTSTART;VALUE=DATE:20190414
DTEND;VALUE=DATE:20190415
DTSTAMP:20260425T165640
CREATED:20190408T200118Z
LAST-MODIFIED:20190408T200845Z
UID:630-1555200000-1555286399@pmk-kleve.de
SUMMARY:Niedziela Palmowa
DESCRIPTION: \nZa tydzień obchodzimy niedzielę Męki Pańskiej\, zwaną Niedzielą Palmową. \nPodczas wszystkich Mszy Świętych dokonamy błogosławieństwa palm i odczytamy fragment Ewangelii upamiętniający wjazd Chrystusa do Jerozolimy. \nZachęcam do nabywania palm przygotowanych przez ministrantów ich rodziców i parafian. Ofiary złożone przy tej okazji zostaną przeznaczone na działalność ministrantów. \n  \n
URL:https://pmk-kleve.de/event/630
END:VEVENT
END:VCALENDAR