BEGIN:VCALENDAR
VERSION:2.0
PRODID:-//PMK Kleve - ECPv4.7.1//NONSGML v1.0//EN
CALSCALE:GREGORIAN
METHOD:PUBLISH
X-WR-CALNAME:PMK Kleve
X-ORIGINAL-URL:https://pmk-kleve.de
X-WR-CALDESC:Veranstaltungen für PMK Kleve
BEGIN:VEVENT
DTSTART;TZID=UTC+0:20250322T093000
DTEND;TZID=UTC+0:20250322T103000
DTSTAMP:20260423T031138
CREATED:20250214T104713Z
LAST-MODIFIED:20250320T075415Z
UID:7218-1742635800-1742639400@pmk-kleve.de
SUMMARY:Nowenna do św. Jana Pawła II
DESCRIPTION:Msza święta z Nowenną za wstawiennictwem św. Jana Pawła II  w kościele St. Mariä Empfängnis w Kleve o godz. 9.30 \n
URL:https://pmk-kleve.de/event/7218
CATEGORIES:Wydarzenia na strone główną
END:VEVENT
END:VCALENDAR