BEGIN:VCALENDAR
VERSION:2.0
PRODID:-//PMK Kleve - ECPv4.7.1//NONSGML v1.0//EN
CALSCALE:GREGORIAN
METHOD:PUBLISH
X-WR-CALNAME:PMK Kleve
X-ORIGINAL-URL:https://pmk-kleve.de
X-WR-CALDESC:Veranstaltungen für PMK Kleve
BEGIN:VEVENT
DTSTART;VALUE=DATE:20221204
DTEND;VALUE=DATE:20221205
DTSTAMP:20260423T102013
CREATED:20221124T224250Z
LAST-MODIFIED:20221126T154313Z
UID:4699-1670112000-1670198399@pmk-kleve.de
SUMMARY:8. dzień Adwentu
DESCRIPTION:Dzisiaj jest 2. niedziela Adwentu. \nJest to jednocześnie pierwsza niedziela miesiąca. W naszej parafii tego dnia sprawowane są w każdym kościele Msze św. ze szczególnym udziałem dzieci. Dlatego też 2 pierwsze ławki zarezerwowane są zawsze dla naszych najmłodszych parafian. Zachęcamy dzieci\, by tego dnia przed Mszą świętą wrzucały karteczki ze swoim imieniem i nazwiskiem do koszyczka przed ołtarzem. Po Mszy świętej zostaną wylosowane dzieci\, które będą mogły zabrać ze sobą do domu na cały miesiąc figurkę. \n
URL:https://pmk-kleve.de/event/8-dzien-adwentu
CATEGORIES:Wydarzenia na strone główną
END:VEVENT
END:VCALENDAR