BEGIN:VCALENDAR
VERSION:2.0
PRODID:-//PMK Kleve - ECPv4.7.1//NONSGML v1.0//EN
CALSCALE:GREGORIAN
METHOD:PUBLISH
X-WR-CALNAME:PMK Kleve
X-ORIGINAL-URL:https://pmk-kleve.de
X-WR-CALDESC:Veranstaltungen für PMK Kleve
BEGIN:VEVENT
DTSTART;VALUE=DATE:20241123
DTEND;VALUE=DATE:20241124
DTSTAMP:20260422T171902
CREATED:20241115T103523Z
LAST-MODIFIED:20241115T103523Z
UID:7005-1732320000-1732406399@pmk-kleve.de
SUMMARY:Adoracja przed Uroczystością Chrystusa Króla
DESCRIPTION:Kościół St. Maria Empfängnis od godz. 19.00 do 21.00 \n
URL:https://pmk-kleve.de/event/adoracja-przed-uroczystoscia-chrystusa-krola
CATEGORIES:Wydarzenia na strone główną
END:VEVENT
END:VCALENDAR