BEGIN:VCALENDAR
VERSION:2.0
PRODID:-//PMK Kleve - ECPv4.7.1//NONSGML v1.0//EN
CALSCALE:GREGORIAN
METHOD:PUBLISH
X-WR-CALNAME:PMK Kleve
X-ORIGINAL-URL:https://pmk-kleve.de
X-WR-CALDESC:Veranstaltungen für PMK Kleve
BEGIN:VEVENT
DTSTART;VALUE=DATE:20231029
DTEND;VALUE=DATE:20231030
DTSTAMP:20260420T050421
CREATED:20231027T114414Z
LAST-MODIFIED:20231027T114414Z
UID:5933-1698537600-1698623999@pmk-kleve.de
SUMMARY:Bal wszystkich świętych
DESCRIPTION: \n
URL:https://pmk-kleve.de/event/bal-wszystkich-swietych-2
CATEGORIES:Wydarzenia na strone główną
END:VEVENT
END:VCALENDAR