BEGIN:VCALENDAR
VERSION:2.0
PRODID:-//PMK Kleve - ECPv4.7.1//NONSGML v1.0//EN
CALSCALE:GREGORIAN
METHOD:PUBLISH
X-WR-CALNAME:PMK Kleve
X-ORIGINAL-URL:https://pmk-kleve.de
X-WR-CALDESC:Veranstaltungen für PMK Kleve
BEGIN:VEVENT
DTSTART;VALUE=DATE:20230910
DTEND;VALUE=DATE:20230911
DTSTAMP:20260420T013352
CREATED:20230901T081558Z
LAST-MODIFIED:20230901T081559Z
UID:5808-1694304000-1694390399@pmk-kleve.de
SUMMARY:Beatyfikacja Rodziny Ulmów
DESCRIPTION:10 września 2023 roku odbędzie się uroczysta beatyfikacja Czcigodnych Sług Bożych Józefa i Wiktorii Ulmów i ich siedmiorga dzieci z Markowej\, małej wsi na terenie Archidiecezji Przemyskiej.\nUlmowie mieszkali w małej drewnianej chałupie. Byli bardzo pobożnymi ludźmi. Zginęli z rąk niemieckich żandarmów za to\, że ukrywali na strychu ośmioro Żydów.\nJózef Ulma był bardzo mądrym i pracowitym człowiekiem. Jego pasją była fotografia (sam złożył aparat i często nosił go przy sobie)\, uprawa warzyw i owoców\, szkółkarstwo oraz pszczelarstwo. Chętnie się kształcił\, wiele czytał\, posiadał własny domowy księgozbiór biblioteczny. Zajmował się też introligatorstwem. Chętnie i często brał udział w lokalnych inicjatywach społecznych i kulturalnych. Był znany i ceniony w okolicy. Swoją przyszłą żonę Wiktorię Niemczak poznał na zebraniu miejscowego koła Związku Młodzieży Wiejskiej. Pobrali się w 1935 roku. Wkrótce rodzina zaczęła się powiększać. Na świat przychodziły kolejno dzieci: Stasia\, Basia\, Władziu\, Franuś\, Antoś i Marysia. Wiosną 1944 roku Wiktoria spodziewała się kolejnego dziecka.\nW domu panowała radosna i religijna atmosfera. Ulmowie uczyli dzieci modlitwy. Czytali regularnie Pismo święte. Z Ewangelii czerpali siłę do życia autentycznie chrześcijańskiego i zgodnego z wolą Bożą. Pozostawili po sobie egzemplarz Biblii\, bardzo „zaczytanej”\, z wieloma zaznaczonymi fragmentami. W roku 1942 podczas głównej akcji eksterminacji Żydów Ulmowie wspólnie zdecydowali się na przyjęcie pod swój dach dwóch Żydowskich rodzin. Byli świadomi konsekwencji\, ale nie mogli odmówić pomocy. Tak nakazywało dobrze ukształtowane sumienie i ludzka życzliwość. Domek Ulmów z trudem mieścił liczną rodzinę. Żydzi znaleźli jednak schronienie na strychu. W wykarmieniu wszystkich osób\, Ulmów wspomagali najbliżsi.\nW nocy z 23 na 24 marca 1944 roku przed domem Ulmów nastąpiła egzekucja zamordowania wszystkich 16 osób.\nRodzina Ulmów z Markowej to prawdziwi Samarytanie XX wieku. Ich życie jest dla nas wzorem\, w jaki sposób można żyć Ewangelią i świadczyć o Chrystusie. Zajaśnieli wielkością zwyczajności i największą miłością\, jaką jest oddanie życia za bliźniego. Józef i Wiktoria uczą nas\, że praca uszlachetnia człowieka\, ale dopiero połączona z modlitwą wiedzie do świętości. Zostawili po sobie piękne świadectwo życia według wiary i okazywania miłosierdzia.\nZachęcamy\, aby od 1 do 9 września odmawiać nowennę\, stanowiącą duchowe i bezpośrednie przygotowanie do tego ważnego wydarzenia wiary. Mottem oficjalnej nowenny opracowanej przez ks. prof. Stanisława Haręzgę i dostępnej na stronie internetowej https://ulmowie.pl będzie hasło: Do chwały nieba drogą ośmiu błogosławieństw.\nŹródło: „Rodzina Ulmów” Wyd. Rafael\, s. 3-49 oraz „Droga ku świętości. Rodzina Ulmów” s. 17-21 \n
URL:https://pmk-kleve.de/event/beatyfikacja-rodziny-ulmow
CATEGORIES:Wydarzenia na strone główną
END:VEVENT
END:VCALENDAR