BEGIN:VCALENDAR
VERSION:2.0
PRODID:-//PMK Kleve - ECPv4.7.1//NONSGML v1.0//EN
CALSCALE:GREGORIAN
METHOD:PUBLISH
X-WR-CALNAME:PMK Kleve
X-ORIGINAL-URL:https://pmk-kleve.de
X-WR-CALDESC:Veranstaltungen für PMK Kleve
BEGIN:VEVENT
DTSTART;VALUE=DATE:20220606
DTEND;VALUE=DATE:20220607
DTSTAMP:20260423T115751
CREATED:20220430T150227Z
LAST-MODIFIED:20220605T154311Z
UID:4000-1654473600-1654559999@pmk-kleve.de
SUMMARY:Bierzmowanie
DESCRIPTION:Uroczysta Msza św. odbędzie się w Emmerich am Rhein\, w kościele St. Aldegundis o godz. 10.00. \nSakramentu bierzmowania 37 osobom z naszej parafii (młodzieży i dorosłym) udzieli biskup Dieter Geerlings\, biskup pomocniczy diecezji Münster. \n
URL:https://pmk-kleve.de/event/bierzmowanie-2
CATEGORIES:Wydarzenia na strone główną
END:VEVENT
END:VCALENDAR