BEGIN:VCALENDAR
VERSION:2.0
PRODID:-//PMK Kleve - ECPv4.7.1//NONSGML v1.0//EN
CALSCALE:GREGORIAN
METHOD:PUBLISH
X-WR-CALNAME:PMK Kleve
X-ORIGINAL-URL:https://pmk-kleve.de
X-WR-CALDESC:Veranstaltungen für PMK Kleve
BEGIN:VEVENT
DTSTART;VALUE=DATE:20221013
DTEND;VALUE=DATE:20221014
DTSTAMP:20260423T165038
CREATED:20221013T100239Z
LAST-MODIFIED:20221013T100240Z
UID:4440-1665619200-1665705599@pmk-kleve.de
SUMMARY:Bł. Honorata Koźmińskiego\, prezbitera
DESCRIPTION:
URL:https://pmk-kleve.de/event/bl-honorata-kozminskiego-prezbitera
CATEGORIES:Wydarzenia na strone główną
END:VEVENT
END:VCALENDAR