BEGIN:VCALENDAR
VERSION:2.0
PRODID:-//PMK Kleve - ECPv4.7.1//NONSGML v1.0//EN
CALSCALE:GREGORIAN
METHOD:PUBLISH
X-WR-CALNAME:PMK Kleve
X-ORIGINAL-URL:https://pmk-kleve.de
X-WR-CALDESC:Veranstaltungen für PMK Kleve
BEGIN:VEVENT
DTSTART;VALUE=DATE:20230608
DTEND;VALUE=DATE:20230609
DTSTAMP:20260422T180805
CREATED:20230526T094853Z
LAST-MODIFIED:20230526T094854Z
UID:5535-1686182400-1686268799@pmk-kleve.de
SUMMARY:Boże Ciało
DESCRIPTION:Uroczystość Najświętszego Ciała i Krwi Chrystusa\, popularnie zwana jest  świętem Bożego Ciała.  \nMsza Święta tego dnia o godz. 13.00 w kościele St. Antonius w Keveleaer.  \nPo Mszy świętej wspólna procesja do Pax Forum. Przez udział w procesji wyznajemy naszą wiarę w realną obecność Chrystusa w Chlebie eucharystycznym. Zapraszamy szczególnie dzieci pierwszokomunijne. Po procesji spotkajmy się przy cieście i kawie. Osoby\, które chcą przygotować ciasto proszę o zgłoszenie tego w zakrystii. \nTego dnia nie będzie Mszy św. o godz. 19.30.  \n
URL:https://pmk-kleve.de/event/boze-cialo-2
CATEGORIES:Wydarzenia na strone główną
END:VEVENT
END:VCALENDAR