BEGIN:VCALENDAR
VERSION:2.0
PRODID:-//PMK Kleve - ECPv4.7.1//NONSGML v1.0//EN
CALSCALE:GREGORIAN
METHOD:PUBLISH
X-WR-CALNAME:PMK Kleve
X-ORIGINAL-URL:https://pmk-kleve.de
X-WR-CALDESC:Veranstaltungen für PMK Kleve
BEGIN:VEVENT
DTSTART;VALUE=DATE:20250619
DTEND;VALUE=DATE:20250620
DTSTAMP:20260423T095047
CREATED:20250618T162637Z
LAST-MODIFIED:20250620T083846Z
UID:7467-1750291200-1750377599@pmk-kleve.de
SUMMARY:BOŻE CIAŁO
DESCRIPTION: \nW czwartek\, 19 czerwca\, w liturgii będziemy celebrowali Uroczystość Najświętszego Ciała i Krwi Chrystusa – Boże Ciało.  \nBędziemy dziękować Bogu za dar Eucharystii oraz prosić Chrystusa o błogosławieństwo i pokój dla Kościoła powszechnego\, dla naszej Ojczyzny i naszego narodu. Udział w procesji eucharystycznej jest publicznym wyznaniem wiary w to\, że Jezus jest wśród nas\, że jest w naszym życiu zawsze obecny. Otwórzmy Jezusowi nasze serca\, aby mogło je opromienić Jego błogosławieństwo.  \nUroczystą liturgię tego dnia rozpoczniemy Mszą Świętą sprawowaną w kościele St. Antonius w Kevelaer o godz. 13.00.  \nPo Mszy św. odbędzie się uroczysta procesja\, która zakończy się w Forum Pax Christi.  \nPo procesji spotkanie przy cieście i kawie. Proszę o przygotowanie wypieków.  \n
URL:https://pmk-kleve.de/event/boze-cialo-4
CATEGORIES:Wydarzenia na strone główną
END:VEVENT
END:VCALENDAR