BEGIN:VCALENDAR
VERSION:2.0
PRODID:-//PMK Kleve - ECPv4.7.1//NONSGML v1.0//EN
CALSCALE:GREGORIAN
METHOD:PUBLISH
X-WR-CALNAME:PMK Kleve
X-ORIGINAL-URL:https://pmk-kleve.de
X-WR-CALDESC:Veranstaltungen für PMK Kleve
BEGIN:VEVENT
DTSTART;VALUE=DATE:20220616
DTEND;VALUE=DATE:20220617
DTSTAMP:20260423T162535
CREATED:20220506T130600Z
LAST-MODIFIED:20220611T132956Z
UID:4032-1655337600-1655423999@pmk-kleve.de
SUMMARY:Boże Ciało
DESCRIPTION:Uroczystość Najświętszego Ciała i Krwi Chrystusa \nMsza Święta tego dnia o godz. 13.00 w kościele St. Antonius w Keveleaer.  \nPo Mszy świętej wspólna procesja do Pax Forum.  Przez udział w procesji wyznajemy naszą wiarę w realną obecność Chrystusa w Chlebie eucharystycznym. Po procesji spotkajmy się przy cieście i kawie. \nZapraszamy szczególnie dzieci pierwszokomunijne.  \nNie będzie Mszy św. o godz. 19.30. \n
URL:https://pmk-kleve.de/event/boze-cialo
CATEGORIES:Wydarzenia na strone główną
END:VEVENT
END:VCALENDAR