BEGIN:VCALENDAR
VERSION:2.0
PRODID:-//PMK Kleve - ECPv4.7.1//NONSGML v1.0//EN
CALSCALE:GREGORIAN
METHOD:PUBLISH
X-WR-CALNAME:PMK Kleve
X-ORIGINAL-URL:https://pmk-kleve.de
X-WR-CALDESC:Veranstaltungen für PMK Kleve
BEGIN:VEVENT
DTSTART;TZID=UTC+0:20221113T170000
DTEND;TZID=UTC+0:20221113T183000
DTSTAMP:20260423T163015
CREATED:20221008T212003Z
LAST-MODIFIED:20221008T212004Z
UID:4397-1668358800-1668364200@pmk-kleve.de
SUMMARY:Darmowe porady prawne
DESCRIPTION:Konsulat Generalny RP w Kolonii przy współpracy z polskojęzycznymi prawnikami oraz Polską Misją Katolicką w Niemczech organizuje spotkania\, podczas których będzie można zasięgnąć darmowych porad prawnych.  \nSpotkania odbędą się:  \n\nw Emmerich 30.10 od godz. 10.30 w salce parafialnej\, \nw Kleve 06.11 od godz. 13.00 w biurze parafialnym\,\nw Kevelaer 13.11 od godz. 17.00. \n\nTerminy można rezerwować po Mszy św. w zakrystii. \n
URL:https://pmk-kleve.de/event/darmowe-porady-prawne-6
CATEGORIES:Wydarzenia na strone główną
END:VEVENT
END:VCALENDAR