BEGIN:VCALENDAR
VERSION:2.0
PRODID:-//PMK Kleve - ECPv4.7.1//NONSGML v1.0//EN
CALSCALE:GREGORIAN
METHOD:PUBLISH
X-WR-CALNAME:PMK Kleve
X-ORIGINAL-URL:https://pmk-kleve.de
X-WR-CALDESC:Veranstaltungen für PMK Kleve
BEGIN:VEVENT
DTSTART;TZID=UTC+0:20240602T130000
DTEND;TZID=UTC+0:20240602T150000
DTSTAMP:20260420T035733
CREATED:20240517T140942Z
LAST-MODIFIED:20240517T140943Z
UID:6593-1717333200-1717340400@pmk-kleve.de
SUMMARY:Darmowe porady prawne
DESCRIPTION:W niedzielę 02 czerwca będzie kolejna możliwość skorzystania z darmowych porad prawnych w salce przy biurze parafialnym w Kleve w godz. 13.15 – 15.15. \nZapisy u księdza proboszcza.  \n
URL:https://pmk-kleve.de/event/darmowe-porady-prawne-7
CATEGORIES:Wydarzenia na strone główną
END:VEVENT
END:VCALENDAR