BEGIN:VCALENDAR
VERSION:2.0
PRODID:-//PMK Kleve - ECPv4.7.1//NONSGML v1.0//EN
CALSCALE:GREGORIAN
METHOD:PUBLISH
X-WR-CALNAME:PMK Kleve
X-ORIGINAL-URL:https://pmk-kleve.de
X-WR-CALDESC:Veranstaltungen für PMK Kleve
BEGIN:VEVENT
DTSTART;TZID=UTC+0:20241117T133000
DTEND;TZID=UTC+0:20241117T163000
DTSTAMP:20260422T140943
CREATED:20241011T103040Z
LAST-MODIFIED:20241011T103041Z
UID:6892-1731850200-1731861000@pmk-kleve.de
SUMMARY:Darmowe porady prawne
DESCRIPTION:Możliwość skorzystania z darmowych porad prawnych. \nPani Magdalena Rabsztyn będzie przyjmowała interesantów 17.11.2024 w sali przy biurze parafialnym w Kleve\, Kavarinerstr. 10 w godz. 13.30-16.30. \nZapisy w zakrystii i biurze parafialnym.  \n
URL:https://pmk-kleve.de/event/darmowe-porady-prawne-8
CATEGORIES:Wydarzenia na strone główną
END:VEVENT
END:VCALENDAR