BEGIN:VCALENDAR
VERSION:2.0
PRODID:-//PMK Kleve - ECPv4.7.1//NONSGML v1.0//EN
CALSCALE:GREGORIAN
METHOD:PUBLISH
X-WR-CALNAME:PMK Kleve
X-ORIGINAL-URL:https://pmk-kleve.de
X-WR-CALDESC:Veranstaltungen für PMK Kleve
BEGIN:VEVENT
DTSTART;VALUE=DATE:20220101
DTEND;VALUE=DATE:20220102
DTSTAMP:20260426T034038
CREATED:20211217T102717Z
LAST-MODIFIED:20211217T103337Z
UID:3595-1640995200-1641081599@pmk-kleve.de
SUMMARY:Święto Świętej Bożej Rodzicielki
DESCRIPTION:Msze święte w : \n\nKLEVE\, kościół Christus König godz. 12.00\nKEVELAER\, kościół St. Antonius godz. 16.00\n\n
URL:https://pmk-kleve.de/event/dziekczynienie-za-miniony-rok-2
CATEGORIES:Wydarzenia na strone główną
END:VEVENT
END:VCALENDAR