BEGIN:VCALENDAR
VERSION:2.0
PRODID:-//PMK Kleve - ECPv4.7.1//NONSGML v1.0//EN
CALSCALE:GREGORIAN
METHOD:PUBLISH
X-WR-CALNAME:PMK Kleve
X-ORIGINAL-URL:https://pmk-kleve.de
X-WR-CALDESC:Veranstaltungen für PMK Kleve
BEGIN:VEVENT
DTSTART;VALUE=DATE:20211231
DTEND;VALUE=DATE:20220101
DTSTAMP:20260426T033640
CREATED:20211217T132144Z
LAST-MODIFIED:20211217T132145Z
UID:3619-1640908800-1640995199@pmk-kleve.de
SUMMARY:Dziękczynienie za miniony rok
DESCRIPTION:Msza święta w EMMERICH\, kościół St. Aldegundis\, godz. 17.00 \n
URL:https://pmk-kleve.de/event/dziekczynienie-za-miniony-rok-3
CATEGORIES:Wydarzenia na strone główną
END:VEVENT
END:VCALENDAR