BEGIN:VCALENDAR
VERSION:2.0
PRODID:-//PMK Kleve - ECPv4.7.1//NONSGML v1.0//EN
CALSCALE:GREGORIAN
METHOD:PUBLISH
X-WR-CALNAME:PMK Kleve
X-ORIGINAL-URL:https://pmk-kleve.de
X-WR-CALDESC:Veranstaltungen für PMK Kleve
BEGIN:VEVENT
DTSTART;VALUE=DATE:20221231
DTEND;VALUE=DATE:20230101
DTSTAMP:20260423T133946
CREATED:20221209T183722Z
LAST-MODIFIED:20221209T183732Z
UID:4866-1672444800-1672531199@pmk-kleve.de
SUMMARY:Dziękczynienie za miniony rok
DESCRIPTION:Msza św. w Emmerich am Rhein\, kościół St. Aldegundis\, godz. 17.00 \n
URL:https://pmk-kleve.de/event/dziekczynienie-za-miniony-rok-4
CATEGORIES:Wydarzenia na strone główną
END:VEVENT
END:VCALENDAR