BEGIN:VCALENDAR
VERSION:2.0
PRODID:-//PMK Kleve - ECPv4.7.1//NONSGML v1.0//EN
CALSCALE:GREGORIAN
METHOD:PUBLISH
X-WR-CALNAME:PMK Kleve
X-ORIGINAL-URL:https://pmk-kleve.de
X-WR-CALDESC:Veranstaltungen für PMK Kleve
BEGIN:VEVENT
DTSTART;VALUE=DATE:20220121
DTEND;VALUE=DATE:20220122
DTSTAMP:20260425T200950
CREATED:20220103T203242Z
LAST-MODIFIED:20220103T203243Z
UID:3663-1642723200-1642809599@pmk-kleve.de
SUMMARY:Dzień Babci
DESCRIPTION:
URL:https://pmk-kleve.de/event/dzien-babci-3
CATEGORIES:Wydarzenia na strone główną
END:VEVENT
END:VCALENDAR