BEGIN:VCALENDAR
VERSION:2.0
PRODID:-//PMK Kleve - ECPv4.7.1//NONSGML v1.0//EN
CALSCALE:GREGORIAN
METHOD:PUBLISH
X-WR-CALNAME:PMK Kleve
X-ORIGINAL-URL:https://pmk-kleve.de
X-WR-CALDESC:Veranstaltungen für PMK Kleve
BEGIN:VEVENT
DTSTART;VALUE=DATE:20240121
DTEND;VALUE=DATE:20240122
DTSTAMP:20260419T152836
CREATED:20240112T122035Z
LAST-MODIFIED:20240119T115442Z
UID:6213-1705795200-1705881599@pmk-kleve.de
SUMMARY:Dzień Babci
DESCRIPTION:Pamiętajmy dzisiaj o swoich babciach – zarówno w modlitwie\, jak i poprzez spotkanie\, czy rozmowę telefoniczną. \nModlitwa babć: \nŚwieta Anno\, wybrana na babcię Syna Bożego\, módl się za mnie\, gdy przyjmuję na siebie ogromną odpowiedzialność towarzyszenia moim dzieciom w ich rodzicielstwie. Naucz mnie pokornego i pełnego troski wspierania ich w najtrudniejszych chwilach związanych z wychowywaniem ich dziecka. Uproś dla mnie siły fizyczne i zdrowie\, bym jak najdłużej mogła służyć im z pomocą\, ofiarując moim wnukom mądrą i cierpliwą miłość. Módl się o dary Ducha Świętego\, bym potrafiła świadectwem swojego życia przekazać całej mojej rodzinie wiarę w to\, że Bóg stał się człowiekiem i umarł na krzyżu\, by pokonać grzech i śmierć. Towarzysz mi i wspieraj mnie modlitwą także u schyłku mojego życia\, bym była jak najlepiej przygotowana na spotkanie z Chrystusem. \nŹródło: „Umiłowane przez Boga. Modlitwy ze świetymi kobietami“\, s. 16 \n
URL:https://pmk-kleve.de/event/dzien-babci-5
CATEGORIES:Wydarzenia na strone główną
END:VEVENT
END:VCALENDAR