BEGIN:VCALENDAR
VERSION:2.0
PRODID:-//PMK Kleve - ECPv4.7.1//NONSGML v1.0//EN
CALSCALE:GREGORIAN
METHOD:PUBLISH
X-WR-CALNAME:PMK Kleve
X-ORIGINAL-URL:https://pmk-kleve.de
X-WR-CALDESC:Veranstaltungen für PMK Kleve
BEGIN:VEVENT
DTSTART;VALUE=DATE:20220122
DTEND;VALUE=DATE:20220123
DTSTAMP:20260425T185321
CREATED:20220103T203308Z
LAST-MODIFIED:20220103T203308Z
UID:3665-1642809600-1642895999@pmk-kleve.de
SUMMARY:Dzień Dziadka
DESCRIPTION:
URL:https://pmk-kleve.de/event/dzien-dziadka-3
CATEGORIES:Wydarzenia na strone główną
END:VEVENT
END:VCALENDAR