BEGIN:VCALENDAR
VERSION:2.0
PRODID:-//PMK Kleve - ECPv4.7.1//NONSGML v1.0//EN
CALSCALE:GREGORIAN
METHOD:PUBLISH
X-WR-CALNAME:PMK Kleve
X-ORIGINAL-URL:https://pmk-kleve.de
X-WR-CALDESC:Veranstaltungen für PMK Kleve
BEGIN:VEVENT
DTSTART;VALUE=DATE:20230122
DTEND;VALUE=DATE:20230123
DTSTAMP:20260423T071210
CREATED:20230108T170255Z
LAST-MODIFIED:20230108T170255Z
UID:4993-1674345600-1674431999@pmk-kleve.de
SUMMARY:Dzień Dziadka
DESCRIPTION:Pamiętajmy o swoich Dziadkach – nie tylko w dniu ich święta. Pamięć\, rozmowa i ciepłe słowa oraz modlitwa w intencji kochanej osoby – mają ogromną moc. \n
URL:https://pmk-kleve.de/event/dzien-dziadka-4
CATEGORIES:Wydarzenia na strone główną
END:VEVENT
END:VCALENDAR