BEGIN:VCALENDAR
VERSION:2.0
PRODID:-//PMK Kleve - ECPv4.7.1//NONSGML v1.0//EN
CALSCALE:GREGORIAN
METHOD:PUBLISH
X-WR-CALNAME:PMK Kleve
X-ORIGINAL-URL:https://pmk-kleve.de
X-WR-CALDESC:Veranstaltungen für PMK Kleve
BEGIN:VEVENT
DTSTART;VALUE=DATE:20230502
DTEND;VALUE=DATE:20230503
DTSTAMP:20260422T182230
CREATED:20230428T182345Z
LAST-MODIFIED:20230428T182345Z
UID:5448-1682985600-1683071999@pmk-kleve.de
SUMMARY:Dzień Flagi RP
DESCRIPTION:Dzisiaj modlitwą ogarniamy wszystkich żyjących poza granicami naszej ojczyzny. \n
URL:https://pmk-kleve.de/event/dzien-flagi-rp
CATEGORIES:Wydarzenia na strone główną
END:VEVENT
END:VCALENDAR