BEGIN:VCALENDAR
VERSION:2.0
PRODID:-//PMK Kleve - ECPv4.7.1//NONSGML v1.0//EN
CALSCALE:GREGORIAN
METHOD:PUBLISH
X-WR-CALNAME:PMK Kleve
X-ORIGINAL-URL:https://pmk-kleve.de
X-WR-CALDESC:Veranstaltungen für PMK Kleve
BEGIN:VEVENT
DTSTART;VALUE=DATE:20221109
DTEND;VALUE=DATE:20221110
DTSTAMP:20260423T114921
CREATED:20221106T164039Z
LAST-MODIFIED:20221106T164039Z
UID:4526-1667952000-1668038399@pmk-kleve.de
SUMMARY:Dzień Niepodległości - Podwórko Emi&Gracji
DESCRIPTION: \nDzień Niepodległości 2022 – spotkanie dzieci polonijnych z uwzględnieniem polskich tradycji i kultury.\nZapraszamy na wspólne celebrowanie Dnia Niepodległości wszystkie dzieci polonijne (od 2. do 12.lat) w dniu 9. listopada 2022 o godz. 17.00. \nSpotkanie będzie trwało do godz. 18.30 i przeprowadzone zostanie w formie hybrydowej (offline i online). \n„Gracja tęskni za Polską – porozmawiajmy o niepodległości” jest tematem naszego spotkania 🐢 \nCzym jest niepodległość? co to jest tęsknota? 🤔Na te i inne pytanie będziemy szukać odpowiedzi wspólnie z dziećmi i specjalnym gościem 🤗 \nWśród propozycji: symbole narodowe- krótka pogadanka\, flaga godło i hymn\, wykonanie hymnu na saksofonie\, bajka i pogadanka o bajce\, drzewa genealogiczne\, gość specjalny- pytania do gościa\, piosenka “Emi i Gracji” . \nGościem specjalnym z dziećmi będzie ks. kanonik Stanisław Stec / proboszcz PMK Freiburg. \n🤗 Serdecznie zapraszamy do udziału wszystkie dzieci.  \nWstęp wolny bez konieczności wcześniejszej rejestracji. \nNa miarę możliwości proponujemy spotkania lokalne dzieci ze wspólnoty (offline) i połączenie się z nami (online). \nSpotkanie offline: biuro Familiaris / Freiburg \nZoom-Meeting beitreten:\nhttps://us02web.zoom.us/j/7605911314?pwd=NDNvb1NnYk56NFA1NTdtK3V0K1JNQT09  \nMeeting-ID: 760 591 1314\nKenncode: 783540 \nSpotkanie będzie miało charakter narodowy\, którego celem jest przybliżyć dzieciom polonijnym polskie tradycje i pojęcie świadomości narodowej i istocie “Niepodległości” dla współczesnego człowieka. W podjętym dialogu z dziećmi przybliżony zostanie temat “Znicz dla bohatera” – o jego istocie\, symbolice i znaczeniu. \nWięcej informacji: https://poradnia-pmk.eu \n
URL:https://pmk-kleve.de/event/dzien-niepodleglosci-podworko-emigracji
CATEGORIES:Wydarzenia na strone główną
END:VEVENT
END:VCALENDAR