BEGIN:VCALENDAR
VERSION:2.0
PRODID:-//PMK Kleve - ECPv4.7.1//NONSGML v1.0//EN
CALSCALE:GREGORIAN
METHOD:PUBLISH
X-WR-CALNAME:PMK Kleve
X-ORIGINAL-URL:https://pmk-kleve.de
X-WR-CALDESC:Veranstaltungen für PMK Kleve
BEGIN:VEVENT
DTSTART;TZID=UTC+0:20240316T100000
DTEND;TZID=UTC+0:20240316T170000
DTSTAMP:20260419T171623
CREATED:20240308T090144Z
LAST-MODIFIED:20240308T090213Z
UID:6410-1710583200-1710608400@pmk-kleve.de
SUMMARY:Dzień skupienia dla kobiet
DESCRIPTION: \n
URL:https://pmk-kleve.de/event/dzien-skupienia-dla-kobiet-2
CATEGORIES:Wydarzenia na strone główną
END:VEVENT
END:VCALENDAR