BEGIN:VCALENDAR
VERSION:2.0
PRODID:-//PMK Kleve - ECPv4.7.1//NONSGML v1.0//EN
CALSCALE:GREGORIAN
METHOD:PUBLISH
X-WR-CALNAME:PMK Kleve
X-ORIGINAL-URL:https://pmk-kleve.de
X-WR-CALDESC:Veranstaltungen für PMK Kleve
BEGIN:VEVENT
DTSTART;VALUE=DATE:20230923
DTEND;VALUE=DATE:20230924
DTSTAMP:20260419T203345
CREATED:20230908T094342Z
LAST-MODIFIED:20230908T094342Z
UID:5830-1695427200-1695513599@pmk-kleve.de
SUMMARY:Dzień skupienia dla kobiet
DESCRIPTION: \n
URL:https://pmk-kleve.de/event/dzien-skupienia-dla-kobiet
CATEGORIES:Wydarzenia na strone główną
END:VEVENT
END:VCALENDAR