BEGIN:VCALENDAR
VERSION:2.0
PRODID:-//PMK Kleve - ECPv4.7.1//NONSGML v1.0//EN
CALSCALE:GREGORIAN
METHOD:PUBLISH
X-WR-CALNAME:PMK Kleve
X-ORIGINAL-URL:https://pmk-kleve.de
X-WR-CALDESC:Veranstaltungen für PMK Kleve
BEGIN:VEVENT
DTSTART;VALUE=DATE:20240615
DTEND;VALUE=DATE:20240616
DTSTAMP:20260420T035752
CREATED:20240517T122128Z
LAST-MODIFIED:20240517T122129Z
UID:6578-1718409600-1718495999@pmk-kleve.de
SUMMARY:Dzień skupienia kobiet
DESCRIPTION: \n
URL:https://pmk-kleve.de/event/dzien-skupienia-kobiet-3
CATEGORIES:Wydarzenia na strone główną
END:VEVENT
END:VCALENDAR