BEGIN:VCALENDAR
VERSION:2.0
PRODID:-//PMK Kleve - ECPv4.7.1//NONSGML v1.0//EN
CALSCALE:GREGORIAN
METHOD:PUBLISH
X-WR-CALNAME:PMK Kleve
X-ORIGINAL-URL:https://pmk-kleve.de
X-WR-CALDESC:Veranstaltungen für PMK Kleve
BEGIN:VEVENT
DTSTART;VALUE=DATE:20240907
DTEND;VALUE=DATE:20240908
DTSTAMP:20260420T100125
CREATED:20240823T124934Z
LAST-MODIFIED:20240830T134636Z
UID:6754-1725667200-1725753599@pmk-kleve.de
SUMMARY:Dzień skupienia kobiet
DESCRIPTION:W sobotę 07 września odbędzie się kwartalny dzień skupienia kobiet w Kevelaer. \nKonferencję i kazanie wygłosi ks. prof. Stanisław Ormanty SChr nt. „Geniusz kobiecości w zamyśle Boga Stwórcy”.  \nProgram dnia:  \n\ngodz. 11.00 Adoracja Najświętszego Sakramentu i możliwość spowiedzi\, (w kościele St. Antonius – Geldernerstr. 15A)\ngodz. 12.15 Msza św. (w kościele St. Antonius – Geldernerstr. 15A)\ngodz. 15.30 warsztaty pt. „Wczytaj sobie drogę do nieba“\, które poprowadzi Magdalena Marchlewska. Miejsce warsztatów: Priesterhaus przy Sanktuarium MB (Kapellenplatz)\n\n
URL:https://pmk-kleve.de/event/dzien-skupienia-kobiet-4
CATEGORIES:Wydarzenia na strone główną
END:VEVENT
END:VCALENDAR