BEGIN:VCALENDAR
VERSION:2.0
PRODID:-//PMK Kleve - ECPv4.7.1//NONSGML v1.0//EN
CALSCALE:GREGORIAN
METHOD:PUBLISH
X-WR-CALNAME:PMK Kleve
X-ORIGINAL-URL:https://pmk-kleve.de
X-WR-CALDESC:Veranstaltungen für PMK Kleve
BEGIN:VEVENT
DTSTART;TZID=UTC+0:20190319T181500
DTEND;TZID=UTC+0:20190319T191500
DTSTAMP:20260425T175249
CREATED:20190319T105844Z
LAST-MODIFIED:20190319T213821Z
UID:445-1553019300-1553022900@pmk-kleve.de
SUMMARY:Grupa Kreatywna
DESCRIPTION:We wtorek o godz. 18.15 w salce parafialnej w Kleve spotyka się „Grupa Kreatywna”.\nW programie robienie kartek wielkanocnych\, ozdób wiosennych i innych rzeczy.\nOsoby zainteresowane zapraszam na spotkanie. \n
URL:https://pmk-kleve.de/event/grupa-kreatywna
LOCATION:Kleve\, adres\, miejscowość\, kod
CATEGORIES:Wydarzenia Biuletyn
ATTACH;FMTTYPE=image/jpeg:https://pmk-kleve.de/wp-content/uploads/2019/03/post04-.jpg
END:VEVENT
END:VCALENDAR