BEGIN:VCALENDAR
VERSION:2.0
PRODID:-//PMK Kleve - ECPv4.7.1//NONSGML v1.0//EN
CALSCALE:GREGORIAN
METHOD:PUBLISH
X-WR-CALNAME:PMK Kleve
X-ORIGINAL-URL:https://pmk-kleve.de
X-WR-CALDESC:Veranstaltungen für PMK Kleve
BEGIN:VEVENT
DTSTART;VALUE=DATE:20240518
DTEND;VALUE=DATE:20240519
DTSTAMP:20260420T053338
CREATED:20240517T115522Z
LAST-MODIFIED:20240517T115523Z
UID:6573-1715990400-1716076799@pmk-kleve.de
SUMMARY:I Komunia św.
DESCRIPTION:Msza św. w kościele Chrystusa Króla w Kleve o godz. 12.00 \n
URL:https://pmk-kleve.de/event/i-komunia-sw
CATEGORIES:Wydarzenia na strone główną
END:VEVENT
END:VCALENDAR