BEGIN:VCALENDAR
VERSION:2.0
PRODID:-//PMK Kleve - ECPv4.7.1//NONSGML v1.0//EN
CALSCALE:GREGORIAN
METHOD:PUBLISH
X-WR-CALNAME:PMK Kleve
X-ORIGINAL-URL:https://pmk-kleve.de
X-WR-CALDESC:Veranstaltungen für PMK Kleve
BEGIN:VEVENT
DTSTART;VALUE=DATE:20230226
DTEND;VALUE=DATE:20230227
DTSTAMP:20260422T233503
CREATED:20230108T174609Z
LAST-MODIFIED:20230108T174610Z
UID:5030-1677369600-1677455999@pmk-kleve.de
SUMMARY:I niedziela Wielkiego Postu
DESCRIPTION:Panie Jezu\, chcę uczyć się od Ciebie ufności w miłość Ojca. Pustynia nie jest nie do przejscia\, a pokusa nigdy nie jest ponad moje siły\, gdy jestem napełniony łaską uświecającą. Amen \nks. Cyprian Kostrzewa SSP \n
URL:https://pmk-kleve.de/event/i-niedziela-wielkiego-postu
CATEGORIES:Wydarzenia na strone główną
END:VEVENT
END:VCALENDAR