BEGIN:VCALENDAR
VERSION:2.0
PRODID:-//PMK Kleve - ECPv4.7.1//NONSGML v1.0//EN
CALSCALE:GREGORIAN
METHOD:PUBLISH
X-WR-CALNAME:PMK Kleve
X-ORIGINAL-URL:https://pmk-kleve.de
X-WR-CALDESC:Veranstaltungen für PMK Kleve
BEGIN:VEVENT
DTSTART;VALUE=DATE:20221226
DTEND;VALUE=DATE:20221227
DTSTAMP:20260423T121944
CREATED:20221106T172409Z
LAST-MODIFIED:20221106T172409Z
UID:4560-1672012800-1672099199@pmk-kleve.de
SUMMARY:II Dzień Świąt Bożego Narodzenia
DESCRIPTION:
URL:https://pmk-kleve.de/event/ii-dzien-swiat-bozego-narodzenia
CATEGORIES:Wydarzenia na strone główną
END:VEVENT
END:VCALENDAR