BEGIN:VCALENDAR
VERSION:2.0
PRODID:-//PMK Kleve - ECPv4.7.1//NONSGML v1.0//EN
CALSCALE:GREGORIAN
METHOD:PUBLISH
X-WR-CALNAME:PMK Kleve
X-ORIGINAL-URL:https://pmk-kleve.de
X-WR-CALDESC:Veranstaltungen für PMK Kleve
BEGIN:VEVENT
DTSTART;VALUE=DATE:20230312
DTEND;VALUE=DATE:20230313
DTSTAMP:20260422T232628
CREATED:20230310T121147Z
LAST-MODIFIED:20230310T121148Z
UID:5244-1678579200-1678665599@pmk-kleve.de
SUMMARY:III niedziela Wielkiego Postu
DESCRIPTION:Słysząc głos Pana\, serc nie zatwardzajcie. Ps. 95 (94) \n
URL:https://pmk-kleve.de/event/iii-niedziela-wielkiego-postu
CATEGORIES:Wydarzenia na strone główną
END:VEVENT
END:VCALENDAR