BEGIN:VCALENDAR
VERSION:2.0
PRODID:-//PMK Kleve - ECPv4.7.1//NONSGML v1.0//EN
CALSCALE:GREGORIAN
METHOD:PUBLISH
X-WR-CALNAME:PMK Kleve
X-ORIGINAL-URL:https://pmk-kleve.de
X-WR-CALDESC:Veranstaltungen für PMK Kleve
BEGIN:VEVENT
DTSTART;VALUE=DATE:20221218
DTEND;VALUE=DATE:20221219
DTSTAMP:20260423T101430
CREATED:20221106T172125Z
LAST-MODIFIED:20221125T133200Z
UID:4553-1671321600-1671407999@pmk-kleve.de
SUMMARY:4. niedziela Adwentu
DESCRIPTION:„Przybądź o Panie\, Tyś jest Królem chwały“ Ps 24 \n
URL:https://pmk-kleve.de/event/iv-niedziela-adwentu
CATEGORIES:Wydarzenia na strone główną
END:VEVENT
END:VCALENDAR