BEGIN:VCALENDAR
VERSION:2.0
PRODID:-//PMK Kleve - ECPv4.7.1//NONSGML v1.0//EN
CALSCALE:GREGORIAN
METHOD:PUBLISH
X-WR-CALNAME:PMK Kleve
X-ORIGINAL-URL:https://pmk-kleve.de
X-WR-CALDESC:Veranstaltungen für PMK Kleve
BEGIN:VEVENT
DTSTART;TZID=UTC+0:20221021T200000
DTEND;TZID=UTC+0:20221022T040000
DTSTAMP:20260423T194733
CREATED:20221013T095119Z
LAST-MODIFIED:20221013T104430Z
UID:4427-1666382400-1666411200@pmk-kleve.de
SUMMARY:Jasnogórska Noc Czuwania
DESCRIPTION: \nW nocy 21/22 października 2022 r. odbędzie się coroczne czuwanie modlitewne w intencji Polonii zagranicznej i ich duszpasterzy\, organizowane przez Towarzystwo Chrystusowe dla Polonii Zagranicznej i Siostry Misjonarki Chrystusa Króla.  \nZachęcamy do wspólnej modlitwy z księżmi oraz  Siostrami Misjonarkami\, za nich i za nas\, do powierzania Matce Bożej swoich osobistych intencji i spraw.  \nCzuwanie rozpocznie się o godz. 20.00 w Kaplicy Cudownego obrazu Matki Bożej na Jasnej Górze. \nUruchomiony został adres mailowy (czuwanie@chrystusowcy.pl)\, gdzie można przesłać modlitewne intencje. \nNiektóre momenty czuwania i modlitwy będą transmitowane przez środki masowego przekazu i przez Internet (TV Trwam\, kanał You Tube „Jasna Góra na żywo”). \n  \n
URL:https://pmk-kleve.de/event/jasnogorska-noc-czuwania
CATEGORIES:Wydarzenia na strone główną
END:VEVENT
END:VCALENDAR