BEGIN:VCALENDAR
VERSION:2.0
PRODID:-//PMK Kleve - ECPv4.7.1//NONSGML v1.0//EN
CALSCALE:GREGORIAN
METHOD:PUBLISH
X-WR-CALNAME:PMK Kleve
X-ORIGINAL-URL:https://pmk-kleve.de
X-WR-CALDESC:Veranstaltungen für PMK Kleve
BEGIN:VEVENT
DTSTART;VALUE=DATE:20241124
DTEND;VALUE=DATE:20241125
DTSTAMP:20260422T153909
CREATED:20241101T210645Z
LAST-MODIFIED:20241122T102358Z
UID:6963-1732406400-1732492799@pmk-kleve.de
SUMMARY:Jezusa Chrystusa Króla Wszechświata
DESCRIPTION:KRÓLUJ NAM CHRYSTE!  \n\nw naszych sercach\,\nw naszych rodzinach\, \nw naszych parafiach\, \nw naszych szkołach i uczelniach\, \nw środkach społecznej komunikacji\, \nw urzędach\, miejscach pracy\, służby i odpoczynku\, \nw naszych miastach i wioskach\, \nw całym Narodzie i Państwie Polskim”.\n\nŹródło: „Jubileuszowy Akt przyjęcia Jezusa Chrystusa za Króla i Pana” zatwierdzony na posiedzeniu planarnym KEP 25.04.2016 r. \n
URL:https://pmk-kleve.de/event/jezusa-chrystusa-krola-wszechswiata
CATEGORIES:Wydarzenia na strone główną
END:VEVENT
END:VCALENDAR