BEGIN:VCALENDAR
VERSION:2.0
PRODID:-//PMK Kleve - ECPv4.7.1//NONSGML v1.0//EN
CALSCALE:GREGORIAN
METHOD:PUBLISH
X-WR-CALNAME:PMK Kleve
X-ORIGINAL-URL:https://pmk-kleve.de
X-WR-CALDESC:Veranstaltungen für PMK Kleve
BEGIN:VEVENT
DTSTART;VALUE=DATE:20220609
DTEND;VALUE=DATE:20220610
DTSTAMP:20260425T103515
CREATED:20220506T130720Z
LAST-MODIFIED:20220605T163503Z
UID:4036-1654732800-1654819199@pmk-kleve.de
SUMMARY:Jezusa Chrystusa\, Najwyższego i Wiecznego Kapłana
DESCRIPTION:Msza św. w Kevelaer\, Beichtkapelle\, godz. 19.30 \n
URL:https://pmk-kleve.de/event/jezusa-chrystusa-najwyzszego-i-wiecznego-kaplana
CATEGORIES:Wydarzenia na strone główną
END:VEVENT
END:VCALENDAR