BEGIN:VCALENDAR
VERSION:2.0
PRODID:-//PMK Kleve - ECPv4.7.1//NONSGML v1.0//EN
CALSCALE:GREGORIAN
METHOD:PUBLISH
X-WR-CALNAME:PMK Kleve
X-ORIGINAL-URL:https://pmk-kleve.de
X-WR-CALDESC:Veranstaltungen für PMK Kleve
BEGIN:VEVENT
DTSTART;TZID=UTC+0:20220521T180000
DTEND;TZID=UTC+0:20220521T200000
DTSTAMP:20260423T120207
CREATED:20220512T183128Z
LAST-MODIFIED:20220512T183128Z
UID:4076-1653156000-1653163200@pmk-kleve.de
SUMMARY:Katecheza dla dorosłych przygotowujących się do Sakramentu Bierzmowania
DESCRIPTION:Miejsce: salka katechetyczna przy kancelarii parafialnej (Kavarinerstr. 10\, 47533 Kleve) \nGodz.: 18.00 \n
URL:https://pmk-kleve.de/event/katecheza-dla-doroslych-przygotowujacych-sie-do-sakramentu-bierzmowania
CATEGORIES:Wydarzenia na strone główną
END:VEVENT
END:VCALENDAR